BEGIN:VCALENDAR
VERSION:2.0
PRODID:-//ChamberMaster//Event Calendar 2.0//EN
METHOD:PUBLISH
X-PUBLISHED-TTL:P3D
REFRESH-INTERVAL:P3D
CALSCALE:GREGORIAN
BEGIN:VEVENT
DTSTART:20150127T060000Z
DTEND:20150130T220000Z
X-MICROSOFT-CDO-ALLDAYEVENT:FALSE
SUMMARY:28th Women of Distinction Nomination Call Out
DESCRIPTION:This prestigious award recognizes women and young women who contribute to and change the communities they live in. Award Categories for 2015: Leadership in Business Arts & Culture Agriculture Social Action & Community Service Excellence in Education Healthy Living\, Wellness\, & Recreation Lifetime Achievement Youth Award (16-21 years) Young Woman Award (22-29 years)
X-ALT-DESC;FMTTYPE=text/html:This prestigious award recognizes women and young women who contribute to and change the communities they live in. Award Categories for 2015: Leadership in Business Arts &amp\; Culture Agriculture Social Action &amp\; Community Service Excellence in Education Healthy Living\, Wellness\, &amp\; Recreation Lifetime Achievement Youth Award (16-21 years) Young Woman Award (22-29 years)
LOCATION:#148-11th Street Brandon\, Manitoba
UID:e.1595.204
SEQUENCE:3
DTSTAMP:20260422T113532Z
URL:https://dev.brandonchamber.ca/events/details/28th-women-of-distinction-nomination-call-out-01-27-2015-204
END:VEVENT

END:VCALENDAR
