BEGIN:VCALENDAR
VERSION:2.0
PRODID:-//ChamberMaster//Event Calendar 2.0//EN
METHOD:PUBLISH
X-PUBLISHED-TTL:P3D
REFRESH-INTERVAL:P3D
CALSCALE:GREGORIAN
BEGIN:VEVENT
DTSTART:20160615T170000Z
DTEND:20160616T010000Z
X-MICROSOFT-CDO-ALLDAYEVENT:FALSE
SUMMARY:27th Annual Golf Tournament
DESCRIPTION:Join the Chamber on the greens at Glen-Lea Golf Club for our 27th Annual Golf Tournament. Filled with fun Challenges and great prizes to be won\, the tournament consistently sells out and isn't one to be missed!\n\n\n\nRegister 1 to 5 golfers. Less than 4 will be teamed up - a great way to make new contacts.\n\n\n\n\n\nFormat: Scramble\, best ball\n\nRegistration: 11:30am\n\nShotgun Start: 12noon\n\nDinner: 6:30pm - Great Western Roadhouse\n\n\n\nRegistration and Sponsorship Opportunities can be viewed here
X-ALT-DESC;FMTTYPE=text/html:Join the Chamber on the greens at <a href="http://www.glenleagolf.ca/">Glen-Lea Golf Club</a> for our 27th Annual Golf Tournament. Filled with fun Challenges and great prizes to be won\, the tournament consistently sells out and isn&#39\;t one to be missed!<br />\n<br />\nRegister 1 to&nbsp\;5 golfers. <em>Less than&nbsp\;4 will be&nbsp\;teamed up -&nbsp\;a great way to make new contacts.</em><br />\n<br />\n<br />\nFormat: Scramble\, best ball<br />\nRegistration: 11:30am<br />\nShotgun Start: 12noon<br />\nDinner: 6:30pm - Great Western Roadhouse<br />\n<br />\nRegistration and Sponsorship Opportunities can be viewed <a href="http://brandonchamber.ca/wp-content/uploads/2016/03/2016-Golf-Sponsorship_Sold.pdf">here</a><br />\n&nbsp\;
LOCATION:Golf: Glen-Lea Golf Club - Brandon\, East of 110 on Lori Rd Dinner: Great Western Roadhouse - Brandon\, 1125 18th Street
UID:e.1595.423
SEQUENCE:3
DTSTAMP:20260419T131052Z
URL:https://dev.brandonchamber.ca/events/details/27th-annual-golf-tournament-06-15-2016-423
END:VEVENT

END:VCALENDAR
