BEGIN:VCALENDAR
VERSION:2.0
PRODID:-//ChamberMaster//Event Calendar 2.0//EN
METHOD:PUBLISH
X-PUBLISHED-TTL:P3D
REFRESH-INTERVAL:P3D
CALSCALE:GREGORIAN
BEGIN:VEVENT
DTSTART;VALUE=DATE:20150610
DTEND;VALUE=DATE:20150611
TRANSP:TRANSPARENT
X-MICROSOFT-CDO-ALLDAYEVENT:TRUE
SUMMARY:26th Annual Golf Tournament
DESCRIPTION:Join the Chamber on the greens at Shilo Golf and Country Club for our 26th Annual Golf Tournament. Enter a team of 4 or 5 - or enter smaller teams or individuals and we will pair you up - a great way to make new contacts.\n\n\n\nFun Challenges and great prizes to be won!!\n\n\n\nFormat: Scramble\, best ball\n\nCatch the bus: 10:30am\n\nRegistration: 11:30am\n\nShotgun Start: 12noon\n\nDinner: 6:00pm - Shilo Country Club\n\n\n\nRegistration and Sponsorship Opportunites can be viewed here
X-ALT-DESC;FMTTYPE=text/html:Join the Chamber on the greens at Shilo Golf and Country Club for our 26th Annual Golf Tournament. Enter a team of 4 or 5 - or enter smaller teams or individuals and we will pair you up - a great way to make new contacts.<br />\n<br />\nFun Challenges and great prizes to be won!!<br />\n<br />\nFormat: Scramble\, best ball<br />\nCatch the bus: 10:30am<br />\nRegistration: 11:30am<br />\nShotgun Start: 12noon<br />\nDinner: 6:00pm - Shilo Country Club<br />\n<br />\nRegistration and Sponsorship Opportunites can be viewed <a href="http://www.brandonchamber.ca/wp-content/uploads/2015/04/Chamber-Golf-Mailer_2015.pdf">here</a><br />\n&nbsp\;
LOCATION:Shilo Golf and Country Club Shilo\, MB
UID:e.1595.280
SEQUENCE:3
DTSTAMP:20260420T052941Z
URL:https://dev.brandonchamber.ca/events/details/26th-annual-golf-tournament-06-10-2015-280
END:VEVENT

END:VCALENDAR
