BEGIN:VCALENDAR
VERSION:2.0
PRODID:-//ChamberMaster//Event Calendar 2.0//EN
METHOD:PUBLISH
X-PUBLISHED-TTL:P3D
REFRESH-INTERVAL:P3D
CALSCALE:GREGORIAN
BEGIN:VEVENT
DTSTART:20160414T230000Z
DTEND:20160415T020000Z
X-MICROSOFT-CDO-ALLDAYEVENT:FALSE
SUMMARY:2016 MLA Candiate Debates
DESCRIPTION:The Brandon Sun\, Westman Communications Group and the Brandon Chamber of Commerce invite you to attend the MLA Candidates' Debate on the issues facing Brandon in the upcoming provincial election. \n\n\n\nKerry Auriat will serve as moderator.  The panel will consist of:  Brandon Sun Chief Political Reporter Jillian Austin\; CKLQ STAR FM News Director Clay Young\; Brandon Universtiy Associate Professor - Department of Political Science\, Dr. Kell Saunders\; and a Brandon Chamber of Commerce representative.  Brandon Sun Editor Matt Goerzen will co-ordinate questions from the audience.\n\n\n\nThe debate will be broadcast live from the Keystone Centre Amphitheatre on WCG-TV and CKLQ Radio.  The Brandon Sun will follow up with in-depth stories on issues of concern to citizens in Westman.
X-ALT-DESC;FMTTYPE=text/html:<span style="font-size: 16px\;"><span style="font-family: times new roman\;">The Brandon Sun\, Westman Communications Group and the Brandon Chamber of Commerce invite you to attend the MLA Candidates&rsquo\; Debate on the issues facing Brandon in the upcoming provincial election.&nbsp\;<br />\n<br />\nKerry Auriat will serve as moderator.&nbsp\; The panel will consist of:&nbsp\; Brandon Sun Chief Political Reporter Jillian Austin\; CKLQ STAR FM News Director Clay Young\; Brandon Universtiy Associate Professor - Department of Political Science\, Dr. Kell Saunders\; and a Brandon Chamber of Commerce representative.&nbsp\; Brandon Sun Editor Matt Goerzen will co-ordinate questions from the audience.<br />\n<br />\nThe debate will be broadcast live from the Keystone Centre Amphitheatre on WCG-TV and CKLQ Radio.&nbsp\; The Brandon Sun will follow up with in-depth stories on issues of concern to citizens in Westman.</span></span><br />\n&nbsp\;
LOCATION:Keystone Centre Amphitheatre 1175 - 18th Street
UID:e.1595.417
SEQUENCE:3
DTSTAMP:20260419T170300Z
URL:https://dev.brandonchamber.ca/events/details/2016-mla-candiate-debates-04-14-2016-417
END:VEVENT

END:VCALENDAR
