BEGIN:VCALENDAR
VERSION:2.0
PRODID:-//ChamberMaster//Event Calendar 2.0//EN
METHOD:PUBLISH
X-PUBLISHED-TTL:P3D
REFRESH-INTERVAL:P3D
CALSCALE:GREGORIAN
BEGIN:VEVENT
DTSTART:20160211T010000Z
DTEND:20160211T030000Z
X-MICROSOFT-CDO-ALLDAYEVENT:FALSE
SUMMARY:2016-2017 Preliminary Budget - Public Consultation
DESCRIPTION:The Brandon School Division's 2016-2017 Preliminary Budget - Public Consultation will be held on: Wednesday\, February 10\, 2016 in the Meadows School Gymnasium\, located at 1220 - 22nd Street\, Brandon. The meeting will commence at 7:00 pm with a 2016-2017 Preliminary Budget Overview followed by a "Town Hall" question and answer session allowing individuals to provide input regarding the Division's 2016-2017 Budget.\n\n\n\nThe meeting will be streamed live on the internet. You will be able to participate by asking questions via email. Go to http://www.bsd.ca to join in.
X-ALT-DESC;FMTTYPE=text/html:The Brandon School Division&#39\;s 2016-2017 Preliminary Budget - Public Consultation will be held on: Wednesday\, February 10\, 2016 in the Meadows School Gymnasium\, located at 1220 - 22nd Street\, Brandon. The meeting will commence at 7:00 pm with a 2016-2017 Preliminary Budget Overview followed by&nbsp\;a &quot\;Town Hall&quot\; question and answer session allowing individuals to provide input regarding the Division&#39\;s 2016-2017 Budget.<br />\n<br />\nThe meeting will be streamed live on the internet. You will be able to participate by asking questions via email. Go to <a href="http://www.bsd.ca">http://www.bsd.ca</a> to join in.
LOCATION:Meadows School Gymnasium
UID:e.1595.411
SEQUENCE:3
DTSTAMP:20260419T182910Z
URL:https://dev.brandonchamber.ca/events/details/2016-2017-preliminary-budget-public-consultation-02-10-2016-411
END:VEVENT

END:VCALENDAR
