BEGIN:VCALENDAR
VERSION:2.0
PRODID:-//ChamberMaster//Event Calendar 2.0//EN
METHOD:PUBLISH
X-PUBLISHED-TTL:P3D
REFRESH-INTERVAL:P3D
CALSCALE:GREGORIAN
BEGIN:VEVENT
DTSTART:20150923T140000Z
DTEND:20150923T213000Z
X-MICROSOFT-CDO-ALLDAYEVENT:FALSE
SUMMARY:2015 Westman Human Resources Conference
DESCRIPTION:Motivating & Engaging Your Employees\n\nAttend a full day of in-depth hands on training by leaders in the Human Resources field. The day will provide you with implementable strategies to increase employee motivation adn engagement.\n\n\n\nWorkshop Sessions:\n\nUnlock the Doors to Employee Motivation - Barbara J. Bowes\, President\, Legacy Bowes Group\n\nHR Strategies Made Simple - George Klassen\, CAA Manitoba\n\nLead Them to Water & Yes Make Them Think! Coaching Your Team to Success - Bill Medd\, Legacy Bowes Group\n\n\n\nClick here for a description of each session (pg 2)\n\n\n\nAs part of the event\, there are a limited number of sponsorship opportunities available.  By sponsoring the conference\, you will have the opportunity to increase brand awareness and understanding of your service offerings as well as be able to speak directly with event attendees that are seeking HR solutions.\n\n\n\nClick here to learn about sponsorship opportunities\n\nSponsored by: Legacy Bowes Group\n\n\n\nBrought to you by the Brandon Chamber of Commerce\, Economic Development Brandon\, and Entrepreneurship Manitoba\n\n\n\nEARLY BIRD PRICING UNTIL JULY 31
X-ALT-DESC;FMTTYPE=text/html:<em><span style="font-family: arial\;"><span style="font-size: 18px\;"><span style="color: rgb(0\, 128\, 128)\;">Motivating &amp\; Engaging Your Employees</span></span></span></em><br />\n<span style="font-size: 14px\;"><span style="font-family: arial\;">Attend a full day of in-depth hands on training by leaders in the Human Resources field. The day will provide you with implementable strategies to increase employee motivation adn engagement.</span></span><br />\n<br />\n<span style="font-size: 18px\;"><span style="font-family: arial\;"><span style="color: rgb(0\, 128\, 128)\;">Workshop Sessions:</span></span></span><br />\n<span style="font-size: 14px\;"><span style="font-family: arial\;"><strong>Unlock the Doors to Employee Motivation </strong>- Barbara J. Bowes\, President\, Legacy Bowes Group<br />\n<strong>HR Strategies Made Simple </strong>- George Klassen\, CAA Manitoba<br />\n<strong>Lead Them to Water &amp\; Yes Make Them Think! Coaching Your Team to Success</strong> - Bill Medd\, Legacy Bowes Group</span></span><br />\n<br />\n<span style="font-size: 14px\;"><span style="font-family: arial\;"><span style="font-size: 16px\;"><a href="http://www.brandonchamber.ca/wp-content/uploads/2015/07/2015-Westman-HR-Conference-poster.pdf"><span style="color: rgb(0\, 128\, 128)\;">Click here for a description of each session </span></a><span style="color: rgb(0\, 128\, 128)\;">(pg 2)</span></span><br />\n<br />\n<span _mce_style="font-family: Century Gothic\,ITC Avant Garde\,Arial\,Helvetica\,sans-serif\; font-size: 10pt\;">As part of the event\, there are a limited number of sponsorship opportunities available.&nbsp\; By sponsoring the conference\, you will have the opportunity to increase brand awareness and understanding of your service offerings as well as be able to speak directly with event attendees that are seeking HR solutions.</span></span></span><br />\n<br />\n<span style="font-size: 16px\;"><a href="http://www.brandonchamber.ca/wp-content/uploads/2015/07/HR-Conference-Sponosorship-Packages.pdf"><span style="color: rgb(0\, 128\, 128)\;">Click here to learn about sponsorship opportunities</span></a><br />\nSponsored by: <a href="http://www.legacybowes.com/">Legacy Bowes Group</a><br />\n<br />\n<span style="font-size: 14px\;"><span style="font-family: comic sans ms\;"><span style="font-family: arial\;">Brought to you by the Brandon Chamber of Commerce\, Economic Development Brandon\, and Entrepreneurship Manitoba<br />\n<br />\n<span style="color: rgb(64\, 224\, 208)\;"><strong><span style="font-size: 16px\;">EARLY BIRD PRICING UNTIL JULY 31</span></strong></span></span></span></span></span>
LOCATION:Royal Oak Inn & Suites 3130 Victoria Avenue
UID:e.1595.327
SEQUENCE:3
DTSTAMP:20260420T010346Z
URL:https://dev.brandonchamber.ca/events/details/2015-westman-human-resources-conference-09-23-2015-327
END:VEVENT

END:VCALENDAR
