BEGIN:VCALENDAR
VERSION:2.0
PRODID:-//ChamberMaster//Event Calendar 2.0//EN
METHOD:PUBLISH
X-PUBLISHED-TTL:P3D
REFRESH-INTERVAL:P3D
CALSCALE:GREGORIAN
BEGIN:VEVENT
DTSTART;VALUE=DATE:20150302
DTEND;VALUE=DATE:20150305
TRANSP:TRANSPARENT
X-MICROSOFT-CDO-ALLDAYEVENT:TRUE
SUMMARY:2015 Brandon Career Symposium and Westman Construction Expo
DESCRIPTION:2015 marks the 30th Annual Brandon Career Symposium taking place March 2nd - 4th at the Keystone Centre.  The Symposium is flexing its muscles and expanding its format\, by creating a partnership with the Construction Association of Rural Manitoba (CARM) to create the FIRST ANNUAL WESTMAN CONSTRUCTION EXPO!!!.  This will be a place where registered students will have "hands on" experience with eleven participating trades. \n\nThroughout the course of three days\, the Brandon Career Symposium reaches over 5\,000 students and adults across Manitoba\, Eastern Saskatchewan and the Northern United States.
X-ALT-DESC;FMTTYPE=text/html:2015 marks the <strong>30th Annual Brandon Career Symposium </strong>taking place<strong> March 2nd - 4th at the Keystone Centre</strong>.&nbsp\; The Symposium is flexing its muscles and expanding its format\, by creating a partnership with the Construction Association of Rural Manitoba (CARM) to create the FIRST ANNUAL <strong>WESTMAN CONSTRUCTION EXPO!!!.&nbsp\; </strong>This will be a place where registered students will have &quot\;hands on&quot\; experience with eleven participating trades.&nbsp\;<br />\nThroughout the course of three days\, the Brandon Career Symposium reaches over 5\,000 students and adults across Manitoba\, Eastern Saskatchewan and the Northern United States.
LOCATION:Keystone Centre\, Brandon\, Manitoba
UID:e.1595.202
SEQUENCE:3
DTSTAMP:20260422T085245Z
URL:https://dev.brandonchamber.ca/events/details/2015-brandon-career-symposium-and-westman-construction-expo-03-02-2015-202
END:VEVENT

END:VCALENDAR
