BEGIN:VCALENDAR
VERSION:2.0
PRODID:-//ChamberMaster//Event Calendar 2.0//EN
METHOD:PUBLISH
X-PUBLISHED-TTL:P3D
REFRESH-INTERVAL:P3D
CALSCALE:GREGORIAN
BEGIN:VEVENT
DTSTART:20141015T000000Z
DTEND:20141015T013000Z
X-MICROSOFT-CDO-ALLDAYEVENT:FALSE
SUMMARY:2014 Mayoral Candiate Debate
DESCRIPTION:The Brandon Sun\, Westman Communications Group and the Brandon Chamber of Commerce invite you to attend the Mayoral Candidates' Debate on the issues facing Brandon in the upcoming municipal election. \n\nCKLQ's Bill Turner will serve as moderator.  The panel will consist of:  Brandon Sun Chief Political Reporter Jillian Austin\; CKLQ STAR FM News Director Clay Young\; and Brandon Chamber of Commerce president Todd Birkhan.  Brandon Sun Editor Matt Goerzen will co-ordinate questions from the audience.\n\n\n\nThe debate will be broadcast live from the Keystone Centre Amphitheatre on WCG-TV and CKLQ Radio.  The Brandon Sun will follow up with in-depth stories on issues of concern to citizens in Westman.
X-ALT-DESC;FMTTYPE=text/html:<span style="font-size:16px\;"><span style="font-family: times new roman\;">The Brandon Sun\, Westman Communications Group and the Brandon Chamber of Commerce invite you to attend the Mayoral Candidates&rsquo\; Debate on the issues facing Brandon in the upcoming municipal election.&nbsp\;<br />\nCKLQ&rsquo\;s Bill Turner will serve as moderator.&nbsp\; The panel will consist of:&nbsp\; Brandon Sun Chief Political Reporter Jillian Austin\; CKLQ STAR FM News Director Clay Young\; and Brandon Chamber of Commerce president Todd Birkhan.&nbsp\; Brandon Sun Editor Matt Goerzen will co-ordinate questions from the audience.<br />\n<br />\nThe debate will be broadcast live from the Keystone Centre Amphitheatre on WCG-TV and CKLQ Radio.&nbsp\; The Brandon Sun will follow up with in-depth stories on issues of concern to citizens in Westman.</span></span><br />\n&nbsp\;
LOCATION:Keystone Centre Amphitheatre
UID:e.1595.157
SEQUENCE:3
DTSTAMP:20260421T001447Z
URL:https://dev.brandonchamber.ca/events/details/2014-mayoral-candiate-debate-10-14-2014-157
END:VEVENT

END:VCALENDAR
