BEGIN:VCALENDAR
VERSION:2.0
PRODID:-//ChamberMaster//Event Calendar 2.0//EN
METHOD:PUBLISH
X-PUBLISHED-TTL:P3D
REFRESH-INTERVAL:P3D
CALSCALE:GREGORIAN
BEGIN:VEVENT
DTSTART:20141125T133000Z
DTEND:20141125T210000Z
X-MICROSOFT-CDO-ALLDAYEVENT:FALSE
SUMMARY:2014 CME Trade Summit
DESCRIPTION:2014 Trade Summit\n\n- presented by Canadian Manufacturers and Exporters\n\nBuilding on the theme of "Business Best Practices for International Trade"\, the 2014 Trade Summit is designed to support small- to medium-sized Manitoba enterprises that are planning to expand into domestic and international trade. This one-day event will feature speakers\, trade practitioners and service providers who have the knowledge and experience to support your international sales and growth plans.\n\nThis summit will help you to understand the tools you need to evaluate your company and your markets\, and to learn international trade best practices from companies just like yours.\n\nThrough the day\, you will hear from Manitoba leaders and leading strategic thinkers on the topics of international sales planning\, understanding the importance of reviewing and assessing your internal operation in preparation for international trade\, and accessing key support organizations to help execute your trade plans.\n\nFor more information on this trade event\, please contact CME's Trade Champion\, Gustavo Zentner. \n\nFor registration or other information\, visit "Events" at daretocompete.ca or call 204-949-1454.
X-ALT-DESC;FMTTYPE=text/html:<strong><a href="http://mb.cme-mec.ca/?action=show&amp\;lid=UFTAL-PQ7LG-1F62R&amp\;comaction=show&amp\;cid=K8V3D-NASQD-UJQNH">2014 Trade Summit</a></strong><br />\n<em>- presented by Canadian Manufacturers and Exporters</em><br />\nBuilding on the theme of &quot\;<em>Business Best Practices for International Trade</em>&quot\;\, the 2014 Trade Summit is designed to support small- to medium-sized Manitoba enterprises that are planning to expand into domestic and international trade. This one-day event will feature speakers\, trade practitioners and service providers who have the knowledge and experience to support your international sales and growth plans.<br />\nThis summit will help you to understand the tools you need to evaluate your company and your markets\, and to learn international trade best practices from companies just like yours.<br />\nThrough the day\, you will hear from Manitoba leaders and leading strategic thinkers on the topics of international sales planning\, understanding the importance of reviewing and assessing your internal operation in preparation for international trade\, and accessing key support organizations to help execute your trade plans.<br />\nFor more information on this trade event\, please contact CME&#39\;s Trade Champion\,<strong> </strong><a href="mailto:gustavo.zentner@cme-mec.ca"><strong>Gustavo </strong><strong>Zentne</strong>r</a>.&nbsp\;<br />\nFor registration or other information\, visit &quot\;Events&quot\; at <strong><a href="http://www.daretocompete.ca">daretocompete.ca</a></strong> or call 204-949-1454.
LOCATION:Norwood Hotel: 112 Marion Street\, Winnipeg\, MB
UID:e.1595.171
SEQUENCE:3
DTSTAMP:20260420T224857Z
URL:https://dev.brandonchamber.ca/events/details/2014-cme-trade-summit-11-25-2014-171
END:VEVENT

END:VCALENDAR
