BEGIN:VCALENDAR
VERSION:2.0
PRODID:-//ChamberMaster//Event Calendar 2.0//EN
METHOD:PUBLISH
X-PUBLISHED-TTL:P3D
REFRESH-INTERVAL:P3D
CALSCALE:GREGORIAN
BEGIN:VEVENT
DTSTART:20131128T150000Z
DTEND:20131128T183000Z
X-MICROSOFT-CDO-ALLDAYEVENT:FALSE
SUMMARY:1Life Workplace Safety & Health: Why You Have to do Safety to Do Business
DESCRIPTION:Most organizations do not understand how much incidents really cost. Even fewer understand that the same factors that create incidents create quality and production problem.\n\n\n\nJoin Theo Heineman\, from 1Life Workplace Safety & Health\, as she explains the Safety Profit Program.\n\n\n\n"In an environment of keen competition and low profit margins\, learning from incidents and implementing corrective action can contribute more to your profits than your organizations best salesperson. Minimizing loss is as much an improvement as maximization of profit."\n\n\n\nIn this workshop she will cover:\n\n	1. Why safety management is becoming a requirement for you to do business\n\n	2. How to use safety management in your business as a competitive advantage and win more bids\n\n	3. Top five way to attain or maintain COR Certification with great ease: save time and money\n\n	4. Top three things business owners do in their safety programs that waste time and money\n\n	5. Why doing safety because "you have to" never works and how to do it differently so it does work and adds value to your business\n\n	6. Why most business owners things they're in compliance with Safety Laws when they're not and what to do about it\n\n	7. Top five way to control WCB costs\n\n	8. Upcoming changes to MB Workplace Safety legislation and update on the current legislative/enforcement environment\n\n\nThis workshop is sponsored by:\n\nBrandon Chamber of Commerce\n\nEconomic Development Brandon\n\nEntrepreneurship Manitoba
X-ALT-DESC;FMTTYPE=text/html:Most organizations do not understand how much incidents really cost. Even fewer understand that the same factors that create incidents create quality and production problem.<br />\n<br />\nJoin <a href="http://www.theoheineman.ca">Theo Heineman</a>\, from 1Life Workplace Safety &amp\; Health\, as she explains the Safety Profit Program.<br />\n<br />\n&quot\;In an environment of keen competition and low profit margins\, learning from incidents and implementing corrective action can contribute more to your profits than your organizations best salesperson. Minimizing loss is as much an improvement as maximization of profit.&quot\;<br />\n<br />\n<u><strong>In this workshop she will cover</strong>:</u>\n<p>\n	1. Why safety management is becoming a requirement for you to do business</p>\n<p>\n	2. How to use safety management in your business as a competitive advantage and win more bids</p>\n<p>\n	3. Top five way to attain or maintain COR Certification with great ease: save time and money</p>\n<p>\n	4. Top three things business owners do in their safety programs that waste time and money</p>\n<p>\n	5. Why doing safety because &quot\;you have to&quot\; never works and how to do it differently so it does work and adds value to your business</p>\n<p>\n	6. Why most business owners things they&#39\;re in compliance with Safety Laws when they&#39\;re not and what to do about it</p>\n<p>\n	7. Top five way to control WCB costs</p>\n<p>\n	8. Upcoming changes to MB Workplace Safety legislation and update on the current legislative/enforcement environment</p>\n<br />\n<em><strong>This workshop is sponsored by:</strong></em><br />\n<a href="http://www.brandonchambe.ca">Brandon Chamber of Commerce</a><br />\n<a href="http://www.economicdevelopmentbrandon.ca">Economic Development Brandon</a><br />\n<a href="http://www.manitoba.ca/emb">Entrepreneurship Manitoba</a>
LOCATION:Royal Oak Inn
UID:e.1595.64
SEQUENCE:3
DTSTAMP:20260421T152654Z
URL:https://dev.brandonchamber.ca/events/details/1life-workplace-safety-health-why-you-have-to-do-safety-to-do-business-11-28-2013-64
END:VEVENT

END:VCALENDAR
