BEGIN:VCALENDAR
VERSION:2.0
PRODID:-//ChamberMaster//Event Calendar 2.0//EN
METHOD:PUBLISH
X-PUBLISHED-TTL:P3D
REFRESH-INTERVAL:P3D
CALSCALE:GREGORIAN
BEGIN:VEVENT
DTSTART:20160922T163000Z
DTEND:20160922T180000Z
X-MICROSOFT-CDO-ALLDAYEVENT:FALSE
SUMMARY:16/17 Chamber Luncheon- Business Opportunities with CFB Shilo
DESCRIPTION:How the Military Gets its Shopping Done\n\nThe public sector adds an important level to our local economy. Hear from one of our large economic contributors as they share their procurement needs and the process required to fulfill them.\n\n\n\nLearn about the considerable purchasing power and economic impact that CFB Shilo plays in our community. There are many business opportunities ranging from day to day requirements\, service agreements\, unique purchases to complex projects.  CFB Shilo is continually looking to local community and industry to assist with procurement\; hear from department heads of: Housing\, Base Supply\, and Engineering. Gain a greater understanding on how to take action in translating opportunities into business growth.  Also learn a bit about the background of the Base and participate in a military experience at this unique venue generously sponsored by CFB Shilo.\n\n\n\nLuncheon sponsored by: Sunrise Credit Union\n\n\n\nOur monthly Luncheon Series draw a large attendance\, providing you with opportunities to meet new people and learn more about a range of topics relevant to business as well as the Chamber. You are the greatest asset in teaching other people about what your business can do for them:\n\n\n	\n	Arrive early to build your network\n	\n	\n	Bring your business cards\n	\n	\n	Wear what you normally wear to work\n	\n	\n	Set a goal to meet someone new at each event
X-ALT-DESC;FMTTYPE=text/html:<p><strong><span style="font-size: 16px\;"><span style="font-family: arial\;"><span new="" times=""><font color="#000000">How the Military Gets its Shopping Done</font></span></span></span></strong></p>\n\n<p><span style="font-family: arial\;"><span new="" times=""><font color="#000000">The public sector adds an important level to&nbsp\;our local economy. Hear from one of our large&nbsp\;economic contributors as they&nbsp\;share their procurement needs and the process required to fulfill them.<br />\n<br />\nLearn about the considerable purchasing power and economic impact that CFB Shilo plays in our community.&nbsp\;There are many business opportunities ranging from day to day requirements\, service agreements\, unique purchases to complex projects.&nbsp\;&nbsp\;CFB Shilo is continually looking to local community and industry to assist with procurement\; hear from department heads of: Housing\, Base Supply\, and Engineering.&nbsp\;Gain a greater understanding on how to take action&nbsp\;in translating opportunities into business growth.&nbsp\; Also learn a bit about&nbsp\;the background of the Base and participate in a military experience at this unique&nbsp\;venue generously sponsored by <strong><a href="http://www.army.gc.ca/en/cfb-shilo/index.page">CFB Shilo</a>.</strong></font></span><br />\n<br />\nLuncheon sponsored by: <u><strong><a href="http://www.sunrisecu.mb.ca/"><font color="#0066cc">Sunrise Credit Union</font></a></strong></u><br />\n<br />\nOur monthly Luncheon Series draw a large attendance\, providing you with opportunities to meet new people and learn more about a range of topics relevant to business as well as the Chamber. You are the greatest asset in teaching other people about what your business can do for them:</span></p>\n\n<ul>\n	<li>\n	<p><span style="font-family: arial\;">Arrive early to build your network</span></p>\n	</li>\n	<li>\n	<p><span style="font-family: arial\;">Bring your business cards</span></p>\n	</li>\n	<li>\n	<p><span style="font-family: arial\;">Wear what you normally wear to work</span></p>\n	</li>\n	<li>\n	<p><span style="font-family: arial\;">Set a goal to meet someone new at each event</span></p>\n	</li>\n</ul>\n
LOCATION:26th Field Regiment RCA 1116 Victoria Avenue\, Brandon MB (parking available in Police Station lot)
UID:e.1595.486
SEQUENCE:3
DTSTAMP:20260421T085138Z
URL:https://dev.brandonchamber.ca/events/details/16-17-chamber-luncheon-business-opportunities-with-cfb-shilo-09-22-2016-486
END:VEVENT

END:VCALENDAR
