BEGIN:VCALENDAR
VERSION:2.0
PRODID:-//ChamberMaster//Event Calendar 2.0//EN
METHOD:PUBLISH
X-PUBLISHED-TTL:P3D
REFRESH-INTERVAL:P3D
CALSCALE:GREGORIAN
BEGIN:VEVENT
DTSTART:20160519T163000Z
DTEND:20160519T180000Z
X-MICROSOFT-CDO-ALLDAYEVENT:FALSE
SUMMARY:15/16 Chamber Luncheon - State of the City
DESCRIPTION:Rick Chrest was elected in October 2014\, and now has more than a year of experience as Mayor under his belt. Come hear his perspective on how the city is doing\, what he's proud to have accomplished and where we might be headed as a community.\n\n\n\nThe Mayor's annual State of the City Address is one of the largest Chamber Luncheons\, be sure to get your registration early.\n\n\n\nThe address will be followed by a question and answer period.\n\n\n\nLuncheon generously sponsored by: Brandon First\n\n\n\nOur monthly Luncheon Series provides you with opportunities to meet new people and learn more about a range of topics relevant to business. You are the greatest asset in teaching other people about what your business can do for them - arrive early to network\, bring your business cards\, and set a goal to meet someone new at each event.
X-ALT-DESC;FMTTYPE=text/html:Rick Chrest was elected in October 2014\, and now has more than a year of experience as Mayor under his belt. Come hear his perspective on how the city is doing\, what he&#39\;s proud to have accomplished and where we might be headed as a community.<br />\n<br />\nThe Mayor&#39\;s annual State of the City Address is one of the largest Chamber Luncheons\, be sure to get your registration early.<br />\n<br />\nThe address will be followed by a question and answer period.<br />\n<br />\nLuncheon generously sponsored by: <u><strong><a href="http://www.brandonfirst.com/"><font color="#0066cc">Brandon</font></a></strong></u><a href="http://www.brandonfirst.com/"><u><strong> First</strong></u></a><br />\n<br />\nOur monthly Luncheon Series provides you with opportunities to meet new people and learn more about a range of topics relevant to business. You are the greatest asset in teaching other people about what your business can do for them - arrive early to network\, bring your business cards\, and set a goal to meet someone new at each event.
LOCATION:Keystone Centre\, UCT Pavillion 1175 - 18th Street\, Brandon MB
UID:e.1595.420
SEQUENCE:3
DTSTAMP:20260419T144617Z
URL:https://dev.brandonchamber.ca/events/details/15-16-chamber-luncheon-state-of-the-city-05-19-2016-420
END:VEVENT

END:VCALENDAR
