BEGIN:VCALENDAR
VERSION:2.0
PRODID:-//ChamberMaster//Event Calendar 2.0//EN
METHOD:PUBLISH
X-PUBLISHED-TTL:P3D
REFRESH-INTERVAL:P3D
CALSCALE:GREGORIAN
BEGIN:VEVENT
DTSTART:20160210T173000Z
DTEND:20160210T190000Z
X-MICROSOFT-CDO-ALLDAYEVENT:FALSE
SUMMARY:15/16 Chamber Luncheon Series - State of the Economy
DESCRIPTION:Bill Chornous\, Vice-President and Investment Strategist with Investors Group\, provides his continuing insights on the global markets and the economy and looks at market action\, valuations\, economic indicators\, and investor sentiment. He brings 30 years of experience in global capital markets and is often called upon by the media as an authority on financial matters. Bill brings historical information to life by explaining complex market concepts in simple terms to clearly lay out 'best practices' for developing successful investment strategies. \n\n \n\nLuncheon generously sponsored by: CENTUM Mortgage Choice\n\n\n\nThe economy impacts as all. The information and insight provided on Wednesday could have an impact on where your business decides to focus its efforts this upcoming year.  We encourage you and your business not to miss this important event. \n\n\n\nLimited Luncheon sponsor display tables are available\; contact Allison for more information at 204-571-5343 or events@brandonchamber.ca
X-ALT-DESC;FMTTYPE=text/html:<span style="font-size: 14px\;"><span style="font-family: arial\;"><span style="language: en-US\;">Bill Chornous\, Vice-President and Investment Strategist with Investors Group\, provides his continuing insights on the global markets and the economy and looks at market action\, valuations\, economic indicators\, and investor sentiment. </span></span></span><span style="language: en-US\;"><span style="font-family: century gothic\;"><span style="font-size: 14px\;"><span style="font-family: arial\;">He brings 30 years of experience in global capital markets and is often called upon by the media as an authority on financial matters. Bill brings historical information to life by explaining complex market concepts in simple terms to clearly lay out &lsquo\;best practices&rsquo\; for developing successful investment strategies</span></span>.&nbsp\;</span></span><br />\n&nbsp\;<br />\n<span style="font-size: 14px\;"><span style="font-family: arial\;"><span style="color: rgb(0\, 0\, 0)\;">Luncheon generously sponsored by: <u><a href="http://www.centummortgagechoice.com/"><strong>CENTUM Mortgage Choice</strong></a></u></span></span></span><br />\n<br />\n<span style="color: rgb(59\, 61\, 65)\; font-family: &quot\;Arial&quot\;\,&quot\;sans-serif&quot\;\; font-size: 11pt\; mso-fareast-font-family: &quot\;Times New Roman&quot\;\; mso-ansi-language: EN-US\; mso-fareast-language: EN-US\; mso-bidi-language: AR-SA\;">The economy impacts as all. The information and insight provided on Wednesday could have an impact on where your business decides to focus its efforts this upcoming year.&nbsp\; We encourage you and your business not to miss this important event. </span><br />\n<br />\n<span style="font-size: 14px\;"><font color="#000000">Limited Luncheon sponsor&nbsp\;display&nbsp\;tables&nbsp\;are available\; contact Allison for more information at 204-571-5343 or <a href="mailto:events@brandonchamber.ca">events@brandonchamber.ca</a></font></span>
LOCATION:Victoria Inn\, Imperial Ballroom 3550 Victoria Avenue\, Brandon MB
UID:e.1595.402
SEQUENCE:3
DTSTAMP:20260419T183402Z
URL:https://dev.brandonchamber.ca/events/details/15-16-chamber-luncheon-series-state-of-the-economy-02-10-2016-402
END:VEVENT

END:VCALENDAR
