BEGIN:VCALENDAR
VERSION:2.0
PRODID:-//ChamberMaster//Event Calendar 2.0//EN
METHOD:PUBLISH
X-PUBLISHED-TTL:P3D
REFRESH-INTERVAL:P3D
CALSCALE:GREGORIAN
BEGIN:VEVENT
DTSTART:20160407T160000Z
DTEND:20160407T180500Z
X-MICROSOFT-CDO-ALLDAYEVENT:FALSE
SUMMARY:15/16 Chamber Luncheon Series - Provincial Election Leader Forum
DESCRIPTION:As we head to the polls in April for the provincial election\, join us for The Chamber's 2016 Provincial Leaders Forum\, where those vying to be the next Premier will address the business community and share their priorities and vision for our province.\n\n\n\nPlease note the early start time\n\n\n\nGreg Selinger\, NDP Leader\n\nRana Bokhari\, Liberal Leader\n\nBrian Pallister\, PC Leader\n\n\n\nLuncheon Sponsor: Westman Communications Group\n\n\n\nWe invite you to click the following links to stay informed during the campaign:\n\nManitoba Liberal Party (Lib.)\n\nNew Democratic Party of Manitoba (NDP)\n\nThe Progressive Conservative Party of Manitoba (PC)\n\nElections Manitoba\n\nManitoba Chambers: Key Public Policy Pillars\n\n\n\n41st PROVINCIAL GENERAL ELECTION\, APRIL 19\, 2016\n\nElections Manitoba has launched Manitoba Votes 2016\, a new mobile app that allows Manitobans to easily connect with provincial election information like their voting information\, candidates listing\, voting location\, and key dates.
X-ALT-DESC;FMTTYPE=text/html:<span style="font-size: 10pt\;"><span style="font-family: arial\,sans-serif\;"><span style="color: rgb(16\, 16\, 16)\;"><span style="font-size: 14px\;">As we head to the&nbsp\;polls in April&nbsp\;for the provincial election\,&nbsp\;join us for The Chamber&#39\;s 2016 Provincial Leaders Forum\, where those vying to be the next Premier will address the business community and share their priorities and vision for our province.</span></span></span></span><br />\n<br />\n<span style="color: rgb(255\, 140\, 0)\;"><span style="font-style: italic\; language: en-CA\;"><strong><font size="3">Please note the&nbsp\;early start time</font></strong></span></span><br />\n<br />\n<strong><em><span style="font-size: 11pt\;"><span style="font-family: century gothic\,sans-serif\;"><span style="color: black\;">Greg Selinger\, NDP Leader</span></span></span></em></strong><br />\n<strong><em><span style="font-size: 11pt\;"><span style="font-family: century gothic\,sans-serif\;"><span style="color: black\;">Rana Bokhari\, Liberal Leader</span></span></span></em></strong><br />\n<strong><em><span style="font-size: 11pt\;"><span style="font-family: century gothic\,sans-serif\;"><span style="color: black\;">Brian Pallister\, PC Leader</span></span></span></em></strong><br />\n<br />\n<span style="font-size: 10pt\;"><span style="font-family: arial\,sans-serif\;"><span style="color: rgb(16\, 16\, 16)\;"><span style="font-size: 14px\;">Luncheon&nbsp\;Sponsor: <a href="http://www.westmancom.com/selector/">Westman Communications Group</a></span></span></span></span><br />\n<br />\n<span style="font-size: 14px\;">We invite you to click&nbsp\;the following links to stay informed during the campaign:<br />\n<a href="http://www.manitobaliberals.ca/">Manitoba Liberal Party (Lib.)</a><br />\n<a href="http://todaysndp.ca/">New Democratic Party of Manitoba (NDP)</a><br />\n<a href="http://www.pcmanitoba.com/">The Progressive Conservative Party of Manitoba (PC)</a><br />\n<a href="http://www.electionsmanitoba.ca/en">Elections Manitoba</a></span><br />\n<a href="http://www.mbchamber.mb.ca/2016/02/manitoba-business-organizations-unite-on-growing-manitobas-economy/">Manitoba Chambers: Key Public Policy Pillars</a><br />\n<br />\n41st PROVINCIAL GENERAL ELECTION\, APRIL 19\, 2016<br />\nElections Manitoba has launched <em>Manitoba Votes 2016</em>\, a new mobile app that allows Manitobans to easily connect with provincial election information like their voting information\, candidates listing\, voting location\, and key dates.
LOCATION:Victoria Inn\, Grand Salon 3550 Victoria Avenue
UID:e.1595.413
SEQUENCE:3
DTSTAMP:20260419T155917Z
URL:https://dev.brandonchamber.ca/events/details/15-16-chamber-luncheon-series-provincial-election-leader-forum-04-07-2016-413
END:VEVENT

END:VCALENDAR
