BEGIN:VCALENDAR
VERSION:2.0
PRODID:-//ChamberMaster//Event Calendar 2.0//EN
METHOD:PUBLISH
X-PUBLISHED-TTL:P3D
REFRESH-INTERVAL:P3D
CALSCALE:GREGORIAN
BEGIN:VEVENT
DTSTART:20160310T173000Z
DTEND:20160310T190000Z
X-MICROSOFT-CDO-ALLDAYEVENT:FALSE
SUMMARY:15/16 Chamber Luncheon Series: Manitoba Success Story (Pure Anada)
DESCRIPTION:Join us for our March Luncheon - Manitoba Success Story - to hear from Candace Grenier\, Founder and Formulator of Pure Anada Cosmetics - a made in Manitoba product line. Candace shares her entrepreneurial passion and homegrown success.\n\n\n\nPure Anada was created as a natural\, safer alternative to traditional cosmetics and is made in their own lab and manufacturing facilities in Morden.\n\n\n\nSponsored by Brandon University
X-ALT-DESC;FMTTYPE=text/html:Join us for our March Luncheon - Manitoba Success Story - to hear from Candace Grenier\, Founder and Formulator of <u><a href="http://pureanada.ca/">Pure Anada Cosmetics</a></u> - a made in Manitoba product line. Candace shares her entrepreneurial passion and homegrown success.<br />\n<br />\nPure Anada was created as a natural\, safer alternative to traditional cosmetics and is made in their own lab and manufacturing facilities in Morden.<br />\n<br />\nSponsored by <a href="https://www.brandonu.ca/"><strong>Brandon University</strong></a><br />\n&nbsp\;
LOCATION:Royal Oak Inn & Suites
UID:e.1595.410
SEQUENCE:3
DTSTAMP:20260419T171517Z
URL:https://dev.brandonchamber.ca/events/details/15-16-chamber-luncheon-series-manitoba-success-story-pure-anada-03-10-2016-410
END:VEVENT

END:VCALENDAR
