BEGIN:VCALENDAR
VERSION:2.0
PRODID:-//ChamberMaster//Event Calendar 2.0//EN
METHOD:PUBLISH
X-PUBLISHED-TTL:P3D
REFRESH-INTERVAL:P3D
CALSCALE:GREGORIAN
BEGIN:VEVENT
DTSTART:20151210T173000Z
DTEND:20151210T190000Z
X-MICROSOFT-CDO-ALLDAYEVENT:FALSE
SUMMARY:15/16 Chamber Luncheon Series - Christmas Lunch
DESCRIPTION:This festive event ensures fun and holiday spirit! One of our largest Luncheons to enjoy networking with peers\, entertainment\, and a traditional Christmas meal. Treat your staff to lunch\, and make some new business contacts at the same time.\n\n\n\nFundraising for a local member charity is a special feature at this event\, and funds will be raised for the YMCA Brandon Strong Kids Campaign.\n\n\n\nGenerously sponsored by Westoba Credit Union\n\n\n\nCash bar available
X-ALT-DESC;FMTTYPE=text/html:<br />\nThis festive event ensures fun and holiday spirit! One of our largest Luncheons to enjoy networking&nbsp\;with peers\, entertainment\,&nbsp\;and a traditional&nbsp\;Christmas meal. Treat your staff to&nbsp\;lunch\, and make some new business contacts at the same time.<br />\n<br />\nFundraising for&nbsp\;a local member charity is a special feature at this event\, and funds will be raised for the <a href="http://brandonchamberofcommerce.chambermaster.com/list/member/ymca-of-brandon-1393">YMCA Brandon </a>Strong Kids Campaign.<br />\n<br />\nGenerously sponsored by <strong><a href="http://westobacu.com/">Westoba Credit Union</a></strong><br />\n<br />\n<em>Cash bar available</em>
LOCATION:Victoria Inn\, Grand Salon 3550 Victoria Avenue\, Brandon MB
UID:e.1595.332
SEQUENCE:3
DTSTAMP:20260419T205726Z
URL:https://dev.brandonchamber.ca/events/details/15-16-chamber-luncheon-series-christmas-lunch-12-10-2015-332
END:VEVENT

END:VCALENDAR
