BEGIN:VCALENDAR
VERSION:2.0
PRODID:-//ChamberMaster//Event Calendar 2.0//EN
METHOD:PUBLISH
X-PUBLISHED-TTL:P3D
REFRESH-INTERVAL:P3D
CALSCALE:GREGORIAN
BEGIN:VEVENT
DTSTART:20151119T173000Z
DTEND:20151119T190000Z
X-MICROSOFT-CDO-ALLDAYEVENT:FALSE
SUMMARY:15/16 Chamber Luncheon Series - Champions of Agriculture
DESCRIPTION:Hear from Christine Wentworth\, Vice President of Agriculture\, North America for McCain Foods\; the world's largest producer of frozen potato products and appetizers. She is responsible for field to factory operations for potatoes\, onions\, peppers and other vegetables across the US and Canada as well as continuous improvement initiatives in agriculture such as sustainability and variety development.\n\n\n\nThe Champions of Agriculture Luncheon provides positive information about modern agriculture to the business community. Hear insight of current agricultural developments and the greater affects on industry.\n\n\n\nLuncheon generously sponsored by: Assiniboine Community College\n\n\n\nThis event will be related to the Harvesting Value Conference on opportunities in value added agriculture\, which will bring the Westman community together to explore and encourage collaboration between Manitoba entrepreneurs\, businesses\, researchers and investors to expand the processing of Manitoba agricultural products. \n\n\n\nFeaturing a custom Manitoba Made Meal from the Keystone:\n\nHylife pork loin basted in raspberry wine with a Rigby Orchards raspberry wine reduction served with McCain mashed potatoes and Peak of the Market roasted parsnips. Served with Pizzey flax rolls\, followed by individual chocolate cakes with raspberries featuring Rigby Orchards raspberry coulis for dessert \n\n\n\nLimited booth sponsorship opportunities are available\; contact Allison at 204-571-5343 or events@brandonchamber.ca
X-ALT-DESC;FMTTYPE=text/html:Hear from Christine Wentworth\, Vice President of Agriculture\, North America for McCain Foods\; the world&#39\;s largest producer of frozen potato products and appetizers. <font size="2">She is responsible for field to factory operations for potatoes\, onions\, peppers and other vegetables across the US and Canada as well as continuous improvement initiatives in agriculture such as sustainability and variety development.</font><br />\n<br />\n<span style="font-size: 14px\;"><span style="font-family: arial\;"><span style="color: rgb(0\, 0\, 0)\;">The Champions of Agriculture Luncheon provides positive information about modern agriculture to<span class="text_exposed_hide"> the business </span><span class="text_exposed_hide">c</span><span class="text_exposed_show">ommunity</span><span class="text_exposed_show">. Hear </span></span><span new="" style="mso-bidi-font-size: 11.0pt\; mso-ansi-language: EN-US\;" times=""><font color="#000000">insight of current agricultural developments and the greater affects on industry.</font></span><br />\n<br />\n<span style="color: rgb(0\, 0\, 0)\;">Luncheon generously sponsored by: <strong><a href="http://assiniboine.net/">Assiniboine Community College</a></strong></span></span></span><br />\n<br />\n<span style="font-size: 14px\;"><span style="font-family: arial\;"><span style="color: rgb(0\, 0\, 0)\;">This event will be related to the <span style="font-size: 16px\;"><strong><a href="http://brandonchamberofcommerce.chambermaster.com/events/details/harvesting-value-exploring-opportunities-in-value-added-agriculture-391">Harvesting Value</a></strong></span> Conference&nbsp\;on opportunities in value added agriculture\, which will bring the Westman community together to explore and encourage collaboration between Manitoba entrepreneurs\, businesses\, researchers and investors to expand the processing of Manitoba agricultural products.&nbsp\;<br />\n<br />\nFeaturing a custom&nbsp\;Manitoba Made Meal from the Keystone:</span></span></span><br />\n<span lang="EN-CA" new="" style="color: rgb(31\, 73\, 125)\; line-height: 115%\; font-family:\;" times="">Hylife pork loin basted in raspberry wine with a Rigby Orchards raspberry wine reduction served with McCain mashed potatoes and Peak of the Market roasted parsnips. Served with Pizzey flax rolls\, followed by&nbsp\;individual chocolate cakes with raspberries featuring Rigby Orchards raspberry coulis </span><em><font color="#1f497d" face="Calibri" size="2">for dessert </font></em><br />\n<br />\n<font color="#000000" size="3">Limited booth sponsorship opportunities are available\; contact Allison at 204-571-5343 or <a href="mailto:events@brandonchamber.ca">events@brandonchamber.ca</a></font>
LOCATION:Keystone Centre\, UCT Pavilion 1175 18th Street Brandon MB
UID:e.1595.333
SEQUENCE:3
DTSTAMP:20260419T223751Z
URL:https://dev.brandonchamber.ca/events/details/15-16-chamber-luncheon-series-champions-of-agriculture-11-19-2015-333
END:VEVENT

END:VCALENDAR
