BEGIN:VCALENDAR
VERSION:2.0
PRODID:-//ChamberMaster//Event Calendar 2.0//EN
METHOD:PUBLISH
X-PUBLISHED-TTL:P3D
REFRESH-INTERVAL:P3D
CALSCALE:GREGORIAN
BEGIN:VEVENT
DTSTART:20160127T173000Z
DTEND:20160127T190500Z
X-MICROSOFT-CDO-ALLDAYEVENT:FALSE
SUMMARY:15/16 Chamber Luncheon Series - Business Climate Survey
DESCRIPTION:The Business Climate Survey\, last completed in 2012\, is an important tool to assess the needs and concerns of our membership by feeling the pulse of the business owners in our community.  The results of the survey allow the Chamber to address its priorities moving forward\; it also provides information for policy and decision makers to create action around the business sector's needs. The survey is presented by MNP LLP.\n\n\n\nLuncheon generously sponsored by: myITsource
X-ALT-DESC;FMTTYPE=text/html:The Business Climate Survey\, last completed in <a href="http://www.brandonchamber.ca/wp-content/uploads/2013/02/2012-Business-Climate-Survey-Executive-Summary.pdf">2012</a>\, is an important tool to assess the needs and concerns of our membership by feeling the pulse of the&nbsp\;business owners in our community.&nbsp\; The results of the survey allow the Chamber to address its priorities moving forward\; it also provides information for policy and decision makers to create action around the business sector&#39\;s needs. The survey is presented by <a href="http://brandonchamberofcommerce.chambermaster.com/list/member/mnp-llp-brandon-174">MNP LLP</a>.<br />\n<br />\nLuncheon generously sponsored by: <a href="http://www.myitsource.com/"><strong>myITsource</strong></a><br />\n<br />\n&nbsp\;
LOCATION:Keystone Centre\, MNP Hall 1175 18th Street Brandon MB
UID:e.1595.335
SEQUENCE:3
DTSTAMP:20260419T195054Z
URL:https://dev.brandonchamber.ca/events/details/15-16-chamber-luncheon-series-business-climate-survey-01-27-2016-335
END:VEVENT

END:VCALENDAR
