BEGIN:VCALENDAR
VERSION:2.0
PRODID:-//ChamberMaster//Event Calendar 2.0//EN
METHOD:PUBLISH
X-PUBLISHED-TTL:P3D
REFRESH-INTERVAL:P3D
CALSCALE:GREGORIAN
BEGIN:VEVENT
DTSTART:20160609T163000Z
DTEND:20160609T180000Z
X-MICROSOFT-CDO-ALLDAYEVENT:FALSE
SUMMARY:15/16 Chamber Luncheon - President Changeover
DESCRIPTION:Help us welcome incoming Chamber President Terry Burgess\, as well as thanking outgoing President Jordan Ludwig\, and retiring Board of Directors.  The newly elected Board members will be announced at this Changeover Luncheon as well.  The current Board of Director listing can be found here\n\n\n\nThis Luncheon is a chance to learn of what the Board of Directors has been working on for the 2015/2016 Chamber year.\n\n\n\nLuncheon generously sponsored by: Crocus Credit Union\n\n\n\nOur monthly Luncheon Series draw a large attendance\, providing you with opportunities to meet new people and learn more about a range of topics relevant to business as well as the Chamber. You are the greatest asset in teaching other people about what your business can do for them:\n\n	Arrive early to build your network\n	Bring your business cards\n	Wear what you normally wear to work\n	Set a goal to meet someone new at each event
X-ALT-DESC;FMTTYPE=text/html:Help us welcome incoming Chamber President Terry Burgess\, as well as thanking outgoing President Jordan Ludwig\, and retiring Board of Directors.&nbsp\;&nbsp\;The newly elected Board members will be announced at this Changeover Luncheon as well.&nbsp\; The current Board of Director listing can be found <a href="http://www.brandonchamber.ca/about-the-chamber/board-of-directors"><font color="#0066cc">here</font></a><br />\n<br />\nThis Luncheon is a chance to learn of what the Board of Directors has been working on for the 2015/2016 Chamber year.<br />\n<br />\nLuncheon generously sponsored by: <u><strong><a href="http://www.crocuscu.mb.ca/"><font color="#0066cc">Crocus</font></a></strong></u><a href="http://www.crocuscu.mb.ca/"><u><strong> Credit Union</strong></u></a><br />\n<br />\nOur monthly Luncheon Series draw a large attendance\, providing you with opportunities to meet new people and learn more about a range of topics relevant to business as well as the Chamber. You are the greatest asset in teaching other people about what your business can do for them:\n<ul>\n	<li>Arrive early to build your network</li>\n	<li>Bring your business cards</li>\n	<li>Wear what you normally wear to work</li>\n	<li>Set a goal to meet someone new at each event</li>\n</ul>\n
LOCATION:Royal Oak Inn & Suites 3130 Victoria Avenue\, Brandon MB
UID:e.1595.422
SEQUENCE:3
DTSTAMP:20260419T131629Z
URL:https://dev.brandonchamber.ca/events/details/15-16-chamber-luncheon-president-changeover-06-09-2016-422
END:VEVENT

END:VCALENDAR
