BEGIN:VCALENDAR
VERSION:2.0
PRODID:-//ChamberMaster//Event Calendar 2.0//EN
METHOD:PUBLISH
X-PUBLISHED-TTL:P3D
REFRESH-INTERVAL:P3D
CALSCALE:GREGORIAN
BEGIN:VEVENT
DTSTART:20150917T163000Z
DTEND:20150917T180000Z
X-MICROSOFT-CDO-ALLDAYEVENT:FALSE
SUMMARY:15/16 Chamber Luncheon - Blue Bombers
DESCRIPTION:Hear President & CEO Wade Miller from the Winnipeg Blue Bombers as he shares the successes and lessons learned in running of our province's own CFL franchise team.  He will also touch on hosting the 103rd Grey Cup Festival this November.\n\n\n\nThe Grey Cup is the largest annual sporting event in Canada. Did you know the Grey cup is Canada's oldest professional sports trophy? Originally cost $48 in sterling silver\, has been lost\, found\, burned\, stolen\, ransomed\, recovered\, but mostly coveted by many players and fans.\n\n\n\nLuncheon generously sponsored by: Sunrise Credit Union\n\n\n\nOur monthly Luncheon Series provides you with opportunities to meet new people and learn more about a range of topics relevant to business. You are the greatest asset in teaching other people about what your business can do for them - arrive early to network\, bring your business cards\, and set a goal to meet someone new at each event.
X-ALT-DESC;FMTTYPE=text/html:Hear President &amp\; CEO Wade Miller from the Winnipeg Blue Bombers as he shares the successes and lessons learned&nbsp\;in running of our province&#39\;s own CFL franchise team.&nbsp\; He will also touch on hosting the 103rd Grey Cup Festival this November.<br />\n<br />\nThe Grey Cup is the largest annual sporting event in Canada. Did you know the Grey cup is Canada&#39\;s oldest professional sports trophy?&nbsp\;Originally cost $48 in sterling silver\, has been lost\, found\, burned\, stolen\, ransomed\, recovered\, but mostly coveted by many players and fans.<br />\n<br />\nLuncheon generously sponsored by: <u><strong><a href="http://www.sunrisecu.mb.ca/"><font color="#0066cc">Sunrise Credit Union</font></a></strong></u><br />\n<br />\nOur monthly Luncheon Series provides you with opportunities to meet new people and learn more about a range of topics relevant to business. You are the greatest asset in teaching other people about what your business can do for them - arrive early to network\, bring your business cards\, and set a goal to meet someone new at each event.
LOCATION:Victoria Inn\, Grand Salon 3550 Victoria Avenue\, Brandon MB
UID:e.1595.329
SEQUENCE:3
DTSTAMP:20260420T010510Z
URL:https://dev.brandonchamber.ca/events/details/15-16-chamber-luncheon-blue-bombers-09-17-2015-329
END:VEVENT

END:VCALENDAR
