BEGIN:VCALENDAR
VERSION:2.0
PRODID:-//ChamberMaster//Event Calendar 2.0//EN
METHOD:PUBLISH
X-PUBLISHED-TTL:P3D
REFRESH-INTERVAL:P3D
CALSCALE:GREGORIAN
BEGIN:VEVENT
DTSTART:20150910T220000Z
DTEND:20150910T233000Z
X-MICROSOFT-CDO-ALLDAYEVENT:FALSE
SUMMARY:15/16 Brandon Chamber of Commerce AGM
DESCRIPTION:Please join us after work for our Annual AGM which is open to all members of the Brandon Chamber of Commerce.\n\n\n\nFeaturing:\n\n- Leadership Message\n\n- Highlights of the past year: activities\, advocacy\, partnerships\n\n- Approval of the treasurer's report (all members in good standing are eligible to vote)\n\n\n\nThis complementary event will be similar to our Business After 5 with refreshments and casual networking.\n\n\n\nGenerously sponsored by Blu Kitchen & Bar
X-ALT-DESC;FMTTYPE=text/html:Please join us&nbsp\;after work for our Annual AGM which is open to all members of the Brandon Chamber of Commerce.<br />\n<br />\nFeaturing:<br />\n- Leadership Message<br />\n- Highlights of the past year: activities\, advocacy\, partnerships<br />\n- Approval of the treasurer&#39\;s report (all members in good standing are eligible to vote)<br />\n<br />\nThis complementary event will be similar to our Business After 5 with refreshments and casual networking.<br />\n<br />\nGenerously sponsored by <a href="http://blurestaurant.ca/">Blu Kitchen &amp\; Bar</a>
LOCATION:Blu Kitchen & Bar\, Private Dining Room 1630 Park Avenue\, Brandon MB
UID:e.1595.334
SEQUENCE:3
DTSTAMP:20260420T010657Z
URL:https://dev.brandonchamber.ca/events/details/15-16-brandon-chamber-of-commerce-agm-09-10-2015-334
END:VEVENT

END:VCALENDAR
