BEGIN:VCALENDAR
VERSION:2.0
PRODID:-//ChamberMaster//Event Calendar 2.0//EN
METHOD:PUBLISH
X-PUBLISHED-TTL:P3D
REFRESH-INTERVAL:P3D
CALSCALE:GREGORIAN
BEGIN:VEVENT
DTSTART:20150423T163000Z
DTEND:20150423T180000Z
X-MICROSOFT-CDO-ALLDAYEVENT:FALSE
SUMMARY:14/15 Chamber Luncheon: State of the Province
DESCRIPTION:Join us to here from Premier Greg Selinger has he discusses and shares what the future holds for the Province of Manitoba.\n\n\n\nThe address will be followed by a question and answer period\n\n\n\nLuncheon sponsored by Westman Communications Group
X-ALT-DESC;FMTTYPE=text/html:Join us to here from Premier Greg Selinger has he discusses and shares what the future holds for the Province of Manitoba.<br>\n<br>\nThe address will be followed by a question and answer period<br>\n<br>\nLuncheon sponsored by Westman Communications Group
LOCATION:Keystone Centre - UCT Pavilion - enter through Curling Club Doors
UID:e.1595.256
SEQUENCE:3
DTSTAMP:20260422T085236Z
URL:https://dev.brandonchamber.ca/events/details/14-15-chamber-luncheon-state-of-the-province-04-23-2015-256
END:VEVENT

END:VCALENDAR
