BEGIN:VCALENDAR
VERSION:2.0
PRODID:-//ChamberMaster//Event Calendar 2.0//EN
METHOD:PUBLISH
X-PUBLISHED-TTL:P3D
REFRESH-INTERVAL:P3D
CALSCALE:GREGORIAN
BEGIN:VEVENT
DTSTART:20150514T163000Z
DTEND:20150514T180000Z
X-MICROSOFT-CDO-ALLDAYEVENT:FALSE
SUMMARY:14/15 Chamber Luncheon: State of the City
DESCRIPTION:Join us as Mayor Rick Chrest gives his inaugural State of the City Address. Hear the highlights of his first months in office and how he plans to lead the city in future endeavors.  The address will be followed by a question and answer session
X-ALT-DESC;FMTTYPE=text/html:Join us as Mayor Rick Chrest gives his inaugural State of the City Address. Hear the highlights of his first months in office and how he plans to lead the city in future endeavors.&nbsp\; The address will be followed by a question and answer session
LOCATION:Keystone Centre - UCT Pavilion
UID:e.1595.278
SEQUENCE:3
DTSTAMP:20260420T065116Z
URL:https://dev.brandonchamber.ca/events/details/14-15-chamber-luncheon-state-of-the-city-05-14-2015-278
END:VEVENT

END:VCALENDAR
