BEGIN:VCALENDAR
VERSION:2.0
PRODID:-//ChamberMaster//Event Calendar 2.0//EN
METHOD:PUBLISH
X-PUBLISHED-TTL:P3D
REFRESH-INTERVAL:P3D
CALSCALE:GREGORIAN
BEGIN:VEVENT
DTSTART:20141020T163000Z
DTEND:20141020T180000Z
X-MICROSOFT-CDO-ALLDAYEVENT:FALSE
SUMMARY:14/15 Chamber Luncheon Series: Small Business Week - Mark Wafer
DESCRIPTION:Join us for our Kick off to Small Business week at our Luncheon with Guest Speaker\, Mark Wafer - Tim Hortons Franchisee who has done wonders in bringing disabled people into the workforce.\n\n\n\nMark Wafer has been a Tim Hortons Franchisee since 1995 - listen as he explains his years of experience (personal and business) and why hiring people with disabilities is a benefit to business.\n\n\n\nLuncheon is generously sponsored by: Entrepreneurship Manitoba
X-ALT-DESC;FMTTYPE=text/html:Join us for our Kick off to Small Business week at our Luncheon with Guest Speaker\, Mark Wafer - Tim Hortons Franchisee who has done wonders in bringing disabled people into the workforce.<br />\n<br />\nMark Wafer has been a Tim Hortons Franchisee since 1995 - listen as he explains his years of experience (personal and business) and&nbsp\;why hiring people with disabilities is a benefit to business.<br />\n<br />\nLuncheon is generously sponsored by: Entrepreneurship Manitoba
LOCATION:Royal Oak Inn
UID:e.1595.105
SEQUENCE:3
DTSTAMP:20260421T001738Z
URL:https://dev.brandonchamber.ca/events/details/14-15-chamber-luncheon-series-small-business-week-mark-wafer-10-20-2014-105
END:VEVENT

END:VCALENDAR
