BEGIN:VCALENDAR
VERSION:2.0
PRODID:-//ChamberMaster//Event Calendar 2.0//EN
METHOD:PUBLISH
X-PUBLISHED-TTL:P3D
REFRESH-INTERVAL:P3D
CALSCALE:GREGORIAN
BEGIN:VEVENT
DTSTART:20140918T163000Z
DTEND:20140918T180000Z
X-MICROSOFT-CDO-ALLDAYEVENT:FALSE
SUMMARY:14/15 Chamber Luncheon Series: September - Manitoba Pork Council
DESCRIPTION:Please join the Brandon Chamber of Commerce to listen to Karl Kynoch\, Chair of the Manitoba Pork Council\, as he discusses the critical role the hog industry plays in Brandon\, restrictive provincial regulations\, and some practical yet environmentally-sound solutions to keep the hog industry strong and viable in Manitoba.\n\n\n\nLuncheon generously sponsored by: Sunrise Credit Union
X-ALT-DESC;FMTTYPE=text/html:Please join the Brandon Chamber of Commerce&nbsp\;to listen to Karl Kynoch\, Chair of the Manitoba Pork Council\, as he discusses the critical role the hog industry plays in Brandon\, restrictive provincial regulations\, and some practical yet environmentally-sound solutions to keep the hog industry strong and viable in Manitoba.<br />\n<br />\nLuncheon generously sponsored by: <u><strong><a href="http://www.sunrisecu.mb.ca/">Sunrise Credit Union</a></strong></u>
LOCATION:Victoria Inn & Suites Grand Salon
UID:e.1595.103
SEQUENCE:3
DTSTAMP:20260421T014253Z
URL:https://dev.brandonchamber.ca/events/details/14-15-chamber-luncheon-series-september-manitoba-pork-council-09-18-2014-103
END:VEVENT

END:VCALENDAR
