BEGIN:VCALENDAR
VERSION:2.0
PRODID:-//ChamberMaster//Event Calendar 2.0//EN
METHOD:PUBLISH
X-PUBLISHED-TTL:P3D
REFRESH-INTERVAL:P3D
CALSCALE:GREGORIAN
BEGIN:VEVENT
DTSTART:20150122T173000Z
DTEND:20150122T190000Z
X-MICROSOFT-CDO-ALLDAYEVENT:FALSE
SUMMARY:14/15 Chamber Luncheon - January Jets Luncheon
DESCRIPTION:Join us for our January Luncheon to hear from COO John Olfert of True North Sports & Entertainment as he shares the success story in running and bringing back the Winnipeg Jets to Manitoba\, and their vision for the future\n\n\n\nLuncheon generously sponsored by: Corral Communications
X-ALT-DESC;FMTTYPE=text/html:Join us for our January Luncheon to hear from COO John Olfert of True North Sports &amp\; Entertainment as he shares the success story in running and bringing back the Winnipeg Jets to Manitoba\, and their vision for the future<br />\n<br />\nLuncheon generously sponsored by: Corral Communications
LOCATION:Royal Oak Inn & Suites
UID:e.1595.168
SEQUENCE:3
DTSTAMP:20260420T201441Z
URL:https://dev.brandonchamber.ca/events/details/14-15-chamber-luncheon-january-jets-luncheon-01-22-2015-168
END:VEVENT

END:VCALENDAR
