BEGIN:VCALENDAR
VERSION:2.0
PRODID:-//ChamberMaster//Event Calendar 2.0//EN
METHOD:PUBLISH
X-PUBLISHED-TTL:P3D
REFRESH-INTERVAL:P3D
CALSCALE:GREGORIAN
BEGIN:VEVENT
DTSTART:20141112T173000Z
DTEND:20141112T190000Z
X-MICROSOFT-CDO-ALLDAYEVENT:FALSE
SUMMARY:14/15 Chamber Luncheon - Farmery Estate Brewery - November Luncheon
DESCRIPTION:Join us to hear from Chris and Lawrence Warwaruk\, brothers and co-owners of The Farmery Estate Brewery as they share the Farmery Story\, their entrepreneurial passion and vision for the future.\n\n\n\nThis Luncheon Event is generously sponsored by Assiniboine Community College.
X-ALT-DESC;FMTTYPE=text/html:Join us to hear from Chris and Lawrence Warwaruk\, brothers and co-owners of <u><strong><a href="http://farmery.ca" target="_blank">The Farmery Estate Brewery </a></strong></u>as they share the Farmery Story\, their entrepreneurial passion and vision for the future.<br />\n<br />\nThis Luncheon Event is generously sponsored by <strong><a href="http://www.assiniboine.net" target="_blank">Assiniboine Community College.</a></strong>
LOCATION:Victoria Inn
UID:e.1595.162
SEQUENCE:3
DTSTAMP:20260420T225430Z
URL:https://dev.brandonchamber.ca/events/details/14-15-chamber-luncheon-farmery-estate-brewery-november-luncheon-11-12-2014-162
END:VEVENT

END:VCALENDAR
