BEGIN:VCALENDAR
VERSION:2.0
PRODID:-//ChamberMaster//Event Calendar 2.0//EN
METHOD:PUBLISH
X-PUBLISHED-TTL:P3D
REFRESH-INTERVAL:P3D
CALSCALE:GREGORIAN
BEGIN:VEVENT
DTSTART:20141211T173000Z
DTEND:20141211T190000Z
X-MICROSOFT-CDO-ALLDAYEVENT:FALSE
SUMMARY:14/15 Chamber Luncheon - Christmas Luncheon
DESCRIPTION:Join colleagues and friends to celebrate the festive season!\n\n\n\nOur annual 50/50 draw will benefit United Way as well as a Silent Auction for Jets Tickets and overnight accommodations. We encourage you to bring a non-perishable donation for Samaritan House food bank.\n\n\n\nEntertainment by Harmony Station
X-ALT-DESC;FMTTYPE=text/html:Join colleagues and friends to celebrate the festive season!<br />\n<br />\nOur annual&nbsp\;50/50 draw&nbsp\;will benefit&nbsp\;United Way as well as a Silent Auction for Jets Tickets and overnight accommodations. We encourage you to&nbsp\;bring a non-perishable donation for <a href="http://brandonchamberofcommerce.chambermaster.com/list/member/samaritan-house-575">Samaritan House</a>&nbsp\;food bank.<br />\n<br />\nEntertainment by <a href="http://brandonchamberofcommerce.chambermaster.com/list/member/harmony-station-2401">Harmony Station</a>
LOCATION:Victoria Inn
UID:e.1595.166
SEQUENCE:3
DTSTAMP:20260420T213412Z
URL:https://dev.brandonchamber.ca/events/details/14-15-chamber-luncheon-christmas-luncheon-12-11-2014-166
END:VEVENT

END:VCALENDAR
