BEGIN:VCALENDAR
VERSION:2.0
PRODID:-//ChamberMaster//Event Calendar 2.0//EN
METHOD:PUBLISH
X-PUBLISHED-TTL:P3D
REFRESH-INTERVAL:P3D
CALSCALE:GREGORIAN
BEGIN:VEVENT
DTSTART:20150604T163000Z
DTEND:20150604T180000Z
X-MICROSOFT-CDO-ALLDAYEVENT:FALSE
SUMMARY:14/15 Chamber Luncheon: Changeover Luncheon
DESCRIPTION:Help us welcome incoming Chamber President\, Jordan Ludwig\, as well as thanking outgoing President Todd Birkhan\, and retiring Board of Directors.   The newly elected Board members (seven in total!) will be announced at this Changeover Luncheon.  The current Board of Director listing can be found here\n\n\n\nLuncheons draw a large attendance and provide prime networking opportunities for individuals and organizations.
X-ALT-DESC;FMTTYPE=text/html:Help us welcome incoming Chamber President\, Jordan Ludwig\, as well as thanking outgoing President Todd Birkhan\, and retiring Board of Directors.&nbsp\;&nbsp\; The newly elected Board members (seven in total!) will be announced at this Changeover Luncheon.&nbsp\; The current Board of Director listing can be found <a href="http://www.brandonchamber.ca/about-the-chamber/board-of-directors">here</a><br />\n<br />\nLuncheons draw a large attendance and provide prime networking opportunities for individuals and organizations.
LOCATION:Royal Oak Inn
UID:e.1595.279
SEQUENCE:3
DTSTAMP:20260420T053149Z
URL:https://dev.brandonchamber.ca/events/details/14-15-chamber-luncheon-changeover-luncheon-06-04-2015-279
END:VEVENT

END:VCALENDAR
