BEGIN:VCALENDAR
VERSION:2.0
PRODID:-//ChamberMaster//Event Calendar 2.0//EN
METHOD:PUBLISH
X-PUBLISHED-TTL:P3D
REFRESH-INTERVAL:P3D
CALSCALE:GREGORIAN
BEGIN:VEVENT
DTSTART:20150312T163000Z
DTEND:20150312T180000Z
X-MICROSOFT-CDO-ALLDAYEVENT:FALSE
SUMMARY:14/15 Chamber Luncheon - Champions of Agriculture
DESCRIPTION:Join us as we celebrate our Champions of Agriculture with keynote speaker Jim Snyder\, National Director\, Agriculture Practice Development at BDO Canada. He will share his passion for agriculture\, and experience working with a network of independent business owners\, which serves as a cornerstone of sustainable rural communities.
X-ALT-DESC;FMTTYPE=text/html:Join us as we celebrate our Champions of Agriculture with keynote speaker Jim Snyder\, National Director\, Agriculture Practice Development at BDO Canada. He will share his passion for agriculture\, and experience working with a network of independent business owners\, which serves as a cornerstone of sustainable rural communities.
LOCATION:Victoria Inn
UID:e.1595.205
SEQUENCE:3
DTSTAMP:20260422T085339Z
URL:https://dev.brandonchamber.ca/events/details/14-15-chamber-luncheon-champions-of-agriculture-03-12-2015-205
END:VEVENT

END:VCALENDAR
