BEGIN:VCALENDAR
VERSION:2.0
PRODID:-//ChamberMaster//Event Calendar 2.0//EN
METHOD:PUBLISH
X-PUBLISHED-TTL:P3D
REFRESH-INTERVAL:P3D
CALSCALE:GREGORIAN
BEGIN:VEVENT
DTSTART:20160317T223000Z
DTEND:20160318T040000Z
X-MICROSOFT-CDO-ALLDAYEVENT:FALSE
SUMMARY:133rd Annual Dinner and Awards Gala
DESCRIPTION:A Night in Paris\n\n\n\nJoin us to celebrate at our 133rd Annual Dinner & Awards Gala - Hosted by BDO LLP Canada. The most prestigious business event of the year!\n\n\n\nThe Business Achievement Awards will be presented at this gala event:\n\n\n	Business Person of the Year\n	Lifetime Business Builder\n	Outstanding New Business\n	Business Excellence\n	Community Service\n\n  Join us for the Sunrise Credit Union Champagne Reception at 5:30\, followed by a five course dinner complete with wine.\n\n\n\nAim to win one of the incredible prizes including a trip for two to Paris during the live auction - sponsored by CAA Manitoba\, Benmarks & Gonetree Tree Service.\n\n\n\nEnjoy entertainment by comedian Matt Falk: deemed "effortlessly funny" by the CBC. He's performed at Just For Laughs and the Winnipeg Comedy Festival. His album reached #1 on the iTunes Comedy Charts (currently on Sirius XM) and was named one of the Top Ten Comedy Albums the year of its release. Born & raised from Niverville Manitoba\, he presents a clean and humorous act and says "vulgarity is no substitute for wit."\n\n\n\nSponsorship opportunities for every budget are still available. Please contact Katie at members@brandonchamber.ca or call 204-571-5344 for more information.
X-ALT-DESC;FMTTYPE=text/html:<span style="font-size: 22px\;"><span style="font-family: times new roman\;"><span style="color: rgb(204\, 153\, 51)\;"><em><strong>A Night in Paris</strong></em></span></span></span><br />\n<br />\n<span style="font-size: 18px\;"><em><span style="font-family: times new roman\;">Join us to celebrate at our 133rd Annual Dinner &amp\; Awards Gala&nbsp\;- Hosted by <a href="http://www.bdo.ca/en/pages/default.aspx">BDO LLP Canada</a>. The most prestigious business event of the year!<br />\n<br />\nThe Business Achievement Awards will be presented at this gala event:</span></em></span>\n\n<ul>\n	<li><span style="font-size: 18px\;"><em><span style="font-family: times new roman\;">Business Person of the Year</span></em></span></li>\n	<li><span style="font-size: 18px\;"><em><span style="font-family: times new roman\;">Lifetime Business Builder</span></em></span></li>\n	<li><span style="font-size: 18px\;"><em><span style="font-family: times new roman\;">Outstanding New Business</span></em></span></li>\n	<li><span style="font-size: 18px\;"><em><span style="font-family: times new roman\;">Business Excellence</span></em></span></li>\n	<li><span style="font-size: 18px\;"><em><span style="font-family: times new roman\;">Community Service</span></em></span></li>\n</ul>\n<span style="font-size: 18px\;"> </span><em><span style="font-size: 16px\;"><span style="font-family: times new roman\;"><span style="font-size: 18px\;"> Join us for the Sunrise Credit Union Champagne Reception at&nbsp\;5:30\, followed by a five course dinner complete with wine.</span><br />\n<br />\n<span style="font-size: 20px\;"><span style="color: rgb(255\, 102\, 153)\;"><strong>Aim&nbsp\;to win one of the&nbsp\;incredible prizes including a trip for&nbsp\;two to Paris during the live auction -&nbsp\;sponsored by CAA Manitoba\, Benmarks &amp\; Gonetree Tree Service.</strong></span></span><br />\n<br />\n<span style="font-size: 18px\;">Enjoy entertainment by comedian <a href="http://mattfalkcomedy.com/">Matt Falk</a>: deemed &ldquo\;effortlessly funny&rdquo\; by the CBC. He&rsquo\;s performed at Just For Laughs and the Winnipeg Comedy Festival. His album reached #1 on the iTunes Comedy Charts (currently on Sirius XM) and was named one of the Top Ten Comedy Albums the year of its release. Born &amp\; raised from Niverville Manitoba\, he presents a clean and humorous act and says &quot\;vulgarity is no substitute for wit.&quot\;<br />\n<br />\nSponsorship opportunities for every budget are still available. Please contact Katie at <a href="mailto:members@brandonchamber.ca">members@brandonchamber.ca</a> or call 204-571-5344 for more information.</span></span></span></em><br />\n<span style="font-size: 18px\;">&nbsp\;</span>
LOCATION:Keystone Centre\, Manitoba Room Enter at the main ramp 1175 18th street
UID:e.1595.399
SEQUENCE:3
DTSTAMP:20260419T171041Z
URL:https://dev.brandonchamber.ca/events/details/133rd-annual-dinner-and-awards-gala-03-17-2016-399
END:VEVENT

END:VCALENDAR
