BEGIN:VCALENDAR
VERSION:2.0
PRODID:-//ChamberMaster//Event Calendar 2.0//EN
METHOD:PUBLISH
X-PUBLISHED-TTL:P3D
REFRESH-INTERVAL:P3D
CALSCALE:GREGORIAN
BEGIN:VEVENT
DTSTART:20150319T221500Z
DTEND:20150320T030000Z
X-MICROSOFT-CDO-ALLDAYEVENT:FALSE
SUMMARY:132nd Annual Gala Dinner
DESCRIPTION:Join us to celebrate our 132nd Annual Dinner - Hosted by BDO LLP Canada. The most prestigious business event of the year!\n\n\n\nThe Chamber Business Achievement Awards will be presented at this Gala Event.\n\n        Business Person of the Year\n\n        Lifetime Business Builder\n\n        Outstanding New Business\n\n        Business Excellence\n\n        Community Service\n\n    \n\n\n\nThere are only a few tables left to this event - do not delay\, order your tickets today!!\n\n\n\nSponsorship opportunities for every budget are still available. Please contact Hailey at members@brandonchamber.ca or call 204-571-5344 for more information.
X-ALT-DESC;FMTTYPE=text/html:Join us to celebrate our 132nd Annual Dinner - Hosted by BDO LLP Canada. The most prestigious business event of the year!<br>\n<br>\nThe Chamber Business Achievement Awards will be presented at this Gala Event.<br>\n&nbsp\;&nbsp\;&nbsp\; &nbsp\;&nbsp\;&nbsp\;&nbsp\;Business Person of the Year<br>\n&nbsp\;&nbsp\;&nbsp\;&nbsp\;&nbsp\;&nbsp\;&nbsp\; Lifetime Business Builder<br>\n&nbsp\;&nbsp\;&nbsp\; &nbsp\;&nbsp\;&nbsp\;&nbsp\;Outstanding New Business<br>\n&nbsp\;&nbsp\;&nbsp\; &nbsp\;&nbsp\;&nbsp\;&nbsp\;Business Excellence<br>\n&nbsp\;&nbsp\;&nbsp\; &nbsp\;&nbsp\;&nbsp\;&nbsp\;Community Service<br>\n&nbsp\;&nbsp\;&nbsp\;&nbsp\;<br>\n<br>\n<span style="font-size:20px\;"><strong><em>There are only a few tables left to this event - do not delay\, order your tickets today!!</em></strong></span><br>\n<br>\nSponsorship opportunities for every budget are still available. Please contact Hailey at <a href="mailto:members@brandonchamber.ca">members@brandonchamber.ca</a> or call 204-571-5344 for more information.
LOCATION:Keystone Centre - Manitoba Room
UID:e.1595.163
SEQUENCE:3
DTSTAMP:20260422T084610Z
URL:https://dev.brandonchamber.ca/events/details/132nd-annual-gala-dinner-03-19-2015-163
END:VEVENT

END:VCALENDAR
