BEGIN:VCALENDAR
VERSION:2.0
PRODID:-//ChamberMaster//Event Calendar 2.0//EN
METHOD:PUBLISH
X-PUBLISHED-TTL:P3D
REFRESH-INTERVAL:P3D
CALSCALE:GREGORIAN
BEGIN:VEVENT
DTSTART:20130315T224500Z
DTEND:20130316T040000Z
X-MICROSOFT-CDO-ALLDAYEVENT:FALSE
SUMMARY:130th Annual Dinner Masquerade
DESCRIPTION:Tickets go on sale Monday\, January 14\, 2013\n\nTo order call 204-571-5340\n\nNo cancelations after Friday\, March 1\, 2013
X-ALT-DESC;FMTTYPE=text/html:Tickets go on sale Monday\, January 14\, 2013<br />\nTo order call 204-571-5340<br />\nNo cancelations after Friday\, March 1\, 2013
LOCATION:Keystone Centre - Manitoba Room
UID:e.1595.15
SEQUENCE:3
DTSTAMP:20260422T022125Z
URL:https://dev.brandonchamber.ca/events/details/130th-annual-dinner-masquerade-03-15-2013-15
END:VEVENT

END:VCALENDAR
