BEGIN:VCALENDAR
VERSION:2.0
PRODID:-//ChamberMaster//Event Calendar 2.0//EN
METHOD:PUBLISH
X-PUBLISHED-TTL:P3D
REFRESH-INTERVAL:P3D
CALSCALE:GREGORIAN
BEGIN:VEVENT
DTSTART:20150317T140000Z
DTEND:20150318T020000Z
X-MICROSOFT-CDO-ALLDAYEVENT:FALSE
SUMMARY:13 th Annual Aboriginal Job Fair
DESCRIPTION:Matching Aboriginal Job Ready People to Employment.\n\n\n\nThis event allows for quick connections between potential employees and employers. Registered organizations will meet numerous Aboriginal job seekers to identify themselves in the community and identify the positions for which they are recruiting. Companies in attendance are committed to recruiting\, training and employing Aboriginal people in full\, part time or casual employment by summer of 2015.\n\n\n\nRegistration Form for Businesses
X-ALT-DESC;FMTTYPE=text/html:Matching Aboriginal Job Ready People to Employment.<br />\n<br />\nThis event allows for quick connections between potential employees and employers. Registered organizations will meet numerous Aboriginal job seekers to identify themselves in the community and identify the positions for which they are recruiting. Companies in attendance are committed to recruiting\, training and employing Aboriginal people in full\, part time or casual employment by summer of 2015.<br />\n<br />\n<a href="http://cloud.chambermaster.com/userfiles/UserFiles/chambers/1595/File/AJFRegistration2015.pdf">Registration Form for Businesses</a>
LOCATION:Shoppers Mall Brandon
UID:e.1595.232
SEQUENCE:3
DTSTAMP:20260422T084731Z
URL:https://dev.brandonchamber.ca/events/details/13-th-annual-aboriginal-job-fair-03-17-2015-232
END:VEVENT

END:VCALENDAR
