BEGIN:VCALENDAR
VERSION:2.0
PRODID:-//ChamberMaster//Event Calendar 2.0//EN
METHOD:PUBLISH
X-PUBLISHED-TTL:P3D
REFRESH-INTERVAL:P3D
CALSCALE:GREGORIAN
BEGIN:VEVENT
DTSTART:20140318T140000Z
DTEND:20140319T020000Z
X-MICROSOFT-CDO-ALLDAYEVENT:FALSE
SUMMARY:12th Annual Aboriginal Job Fair
DESCRIPTION:12th Annual Aboriginal Job Fair - Matching Aboriginal Job Ready People to Employment.\n\n\n\nThis event allows for quick connections between the potential employee and employers.
X-ALT-DESC;FMTTYPE=text/html:12th Annual Aboriginal Job Fair - Matching Aboriginal Job Ready People to Employment.<br />\n<br />\nThis event allows for quick connections between the potential employee and employers.
LOCATION:Shoppers Mall Brandon
UID:e.1595.85
SEQUENCE:3
DTSTAMP:20260421T095024Z
URL:https://dev.brandonchamber.ca/events/details/12th-annual-aboriginal-job-fair-03-18-2014-85
END:VEVENT

END:VCALENDAR
